BEGIN:VCALENDAR
VERSION:2.0
PRODID:-//Tukios.com/
BEGIN:VEVENT
UID:9f13bba4-8e9f-46d4-9379-89de5ea217df@www.cochranfh.com
DTSTAMP:20260423T194448Z
DTSTART:20260806T160000Z
DTEND:20260806T170000Z
SUMMARY:Celebration of Life
DESCRIPTION:
URL:https://www.cochranfh.com/obituaries/betty-rupp
LOCATION:First Methodist Church 2801 U.S. 190  Livingston TX 77351
GEO:30.7235455;-94.9696884
END:VEVENT
END:VCALENDAR