BEGIN:VCALENDAR
VERSION:2.0
PRODID:-//Tukios.com/
BEGIN:VEVENT
UID:e1d1a971-9626-42a0-80c2-8547facf36c1@www.cochranfh.com
DTSTAMP:20260425T230405Z
DTSTART:20260427T183000Z
DTEND:20260427T193000Z
SUMMARY:Visitation
DESCRIPTION:
URL:https://www.cochranfh.com/obituaries/bobby-lowe
LOCATION: 406 N Yaupon Ave  Livingston TX 77351
GEO:30.7119518;-94.9451097
END:VEVENT
END:VCALENDAR