BEGIN:VCALENDAR
VERSION:2.0
PRODID:-//Tukios.com/
BEGIN:VEVENT
UID:012cd62c-b1f0-43b0-b802-8a2dea842988@www.cochranfh.com
DTSTAMP:20260425T225749Z
DTSTART:20260427T193000Z
DTEND:20260427T203000Z
SUMMARY:Funeral Service
DESCRIPTION:
URL:https://www.cochranfh.com/obituaries/bobby-lowe
LOCATION: 406 N Yaupon Ave  Livingston TX 77351
GEO:30.7119518;-94.9451097
END:VEVENT
END:VCALENDAR