BEGIN:VCALENDAR
VERSION:2.0
PRODID:-//Tukios.com/
BEGIN:VEVENT
UID:25f21e08-675f-49f8-8261-01b20be4d4eb@www.cochranfh.com
DTSTAMP:20260421T022731Z
DTSTART:20260425T180000Z
DTEND:20260425T190000Z
SUMMARY:Visitation
DESCRIPTION:
URL:https://www.cochranfh.com/obituaries/christie-mcwashington
LOCATION:Livingston Church of God in Christ 406 North Yaupon Avenue  
	Livingston TX 77351
GEO:30.7119518;-94.9451097
END:VEVENT
END:VCALENDAR