BEGIN:VCALENDAR
VERSION:2.0
PRODID:-//Tukios.com/
BEGIN:VEVENT
UID:45962b93-4249-4c46-99cf-c542a4e89f92@www.cochranfh.com
DTSTAMP:20260421T023250Z
DTSTART:20260425T190000Z
DTEND:20260425T200000Z
SUMMARY:Funeral Service
DESCRIPTION:
URL:https://www.cochranfh.com/obituaries/christie-mcwashington
LOCATION:Livingston Church of God in Christ 406 North Yaupon Avenue  
	Livingston TX 77351
GEO:30.7119518;-94.9451097
END:VEVENT
END:VCALENDAR