BEGIN:VCALENDAR
VERSION:2.0
PRODID:-//Tukios.com/
BEGIN:VEVENT
UID:9d294d90-1480-4900-813e-46bd3d088c46@www.cochranfh.com
DTSTAMP:20260421T025002Z
DTSTART:20260424T190000Z
DTEND:20260424T200000Z
SUMMARY:Funeral Service
DESCRIPTION:
URL:https://www.cochranfh.com/obituaries/george-allemang
LOCATION: 406 N Yaupon Ave  Livingston TX 77351
GEO:30.7119518;-94.9451097
END:VEVENT
END:VCALENDAR