BEGIN:VCALENDAR
VERSION:2.0
PRODID:-//Tukios.com/
BEGIN:VEVENT
UID:e84718c9-fb85-4a5f-8efa-e6c12c68e266@www.cochranfh.com
DTSTAMP:20260421T024433Z
DTSTART:20260423T220000Z
DTEND:20260424T000000Z
SUMMARY:Visitation
DESCRIPTION:
URL:https://www.cochranfh.com/obituaries/george-allemang
LOCATION: 406 N Yaupon Ave  Livingston TX 77351
GEO:30.7119518;-94.9451097
END:VEVENT
END:VCALENDAR