BEGIN:VCALENDAR
VERSION:2.0
PRODID:-//Tukios.com/
BEGIN:VEVENT
UID:902265e4-5523-4742-b07b-0926f660de0a@www.cochranfh.com
DTSTAMP:20260422T101622Z
DTSTART:20260426T180000Z
DTEND:20260426T190000Z
SUMMARY:Visitation
DESCRIPTION:
URL:https://www.cochranfh.com/obituaries/kathryn-spurlock
LOCATION:Cochran Funeral Home Chapel 212 Old Groveton Road  Onalaska TX 
	77360
GEO:30.8139871;-95.1103443
END:VEVENT
END:VCALENDAR