BEGIN:VCALENDAR
VERSION:2.0
PRODID:-//Tukios.com/
BEGIN:VEVENT
UID:2e6f0a30-fd0f-48da-b820-263d7114e1c6@www.cochranfh.com
DTSTAMP:20260422T102330Z
DTSTART:20260426T190000Z
DTEND:20260426T200000Z
SUMMARY:Funeral Service
DESCRIPTION:
URL:https://www.cochranfh.com/obituaries/kathryn-spurlock
LOCATION:Cochran Funeral Home Chapel 212 Old Groveton Road  Onalaska TX 
	77360
GEO:30.8139871;-95.1103443
END:VEVENT
END:VCALENDAR